BEGIN:VCALENDAR
VERSION:2.0
PRODID:-//wp-events-plugin.com//5.99912//EN
TZID:Europe/Berlin
X-WR-TIMEZONE:Europe/Berlin
BEGIN:VEVENT
UID:0-793@sickenhausen.albverein.eu
DTSTART;TZID=Europe/Berlin:20260514T100000
DTEND;TZID=Europe/Berlin:20260514T100000
DTSTAMP:20260416T163342Z
URL:https://sickenhausen.albverein.eu/events/radtour-an-christi-himmelfahr
 t/
SUMMARY:Radtour "Über die Fildern" an Christi Himmelfahrt
DESCRIPTION:Wir treffen uns am 14.05.2026 um 10:00 Uhr am Feuerwehrhaus in 
 Sickenhausen und fahren über Mittelstadt\, Walddorf\, Aichtal\, Silmingen
  nach Bernhausen. Dort kehren wir bei der Bäckerei Schill mit Blick auf d
 en Flughafen ein.\nZurück führt uns unsere Tour über Neuhausen\, Wolfsc
 hlugen\, Grötzingen und  Aichtal .\n\nDie Strecke beträgt ca. 80 km.\n\
 nÜber viele Teilnehmer freut sich\n\nWilli Müllerschön\nTel: 89334
END:VEVENT
BEGIN:VTIMEZONE
TZID:Europe/Berlin
X-LIC-LOCATION:Europe/Berlin
BEGIN:DAYLIGHT
DTSTART:20260329T030000
TZOFFSETFROM:+0100
TZOFFSETTO:+0200
TZNAME:CEST
END:DAYLIGHT
END:VTIMEZONE
END:VCALENDAR