BEGIN:VCALENDAR
VERSION:2.0
PRODID:-//wp-events-plugin.com//5.99912//EN
TZID:Europe/Berlin
X-WR-TIMEZONE:Europe/Berlin
BEGIN:VEVENT
UID:0-795@sickenhausen.albverein.eu
DTSTART;TZID=Europe/Berlin:20260613T200000
DTEND;TZID=Europe/Berlin:20260613T200000
DTSTAMP:20260420T164212Z
URL:https://sickenhausen.albverein.eu/events/jugend-gruppe-sunset-walk/
SUMMARY:Jugend Gruppe - Sunset Walk
DESCRIPTION:\n\n13.06.2026\nTreffpunkt: 20:00 Uhr am Sportplatz\n\n\nWir ge
 hen gemeinsam eine Strecke von ca. 5 km und genießen den Abend bis zum So
 nnenuntergang.\nDort legen wir eine Pause ein – bringt euch gern Decken\
 , Getränke und Snacks mit.\n\nEgal\, ob neu dabei oder schon bekannt – 
 Ich freue mich auf viele Gesichter und einen schönen Abend mit euch.\n\nB
 ei Fragen meldet euch gerne. \n\nLena Schall \n\nTel. 07121/61966 \n\n 
END:VEVENT
BEGIN:VTIMEZONE
TZID:Europe/Berlin
X-LIC-LOCATION:Europe/Berlin
BEGIN:DAYLIGHT
DTSTART:20260329T030000
TZOFFSETFROM:+0100
TZOFFSETTO:+0200
TZNAME:CEST
END:DAYLIGHT
END:VTIMEZONE
END:VCALENDAR