BEGIN:VCALENDAR
VERSION:2.0
PRODID:-//wp-events-plugin.com//5.99912//EN
TZID:Europe/Berlin
X-WR-TIMEZONE:Europe/Berlin
BEGIN:VEVENT
UID:0-792@sickenhausen.albverein.eu
DTSTART;TZID=Europe/Berlin:20260528T130000
DTEND;TZID=Europe/Berlin:20260528T130000
DTSTAMP:20260410T162857Z
URL:https://sickenhausen.albverein.eu/events/halbtages-radwanderung-2/
SUMMARY:Halbtages-Radwanderung
DESCRIPTION:Zu unserer Tour treffen wir uns am Donnerstag\, 28. Mai 2026\, 
 um 13:00 Uhr\, am Feuerwehrhaus.\nMit genügend Luft in den Reifen und gut
 er Laune bei idealem Radlerwetter radeln wir circa 40 Kilometer und ein Ei
 nkehrschwung ist auch vorgesehen.\nSollte das Wetter tatsächlich kippelig
  sein\, bitte vorher anrufen unter 670309.\nRWF Erich Fritz 
END:VEVENT
BEGIN:VTIMEZONE
TZID:Europe/Berlin
X-LIC-LOCATION:Europe/Berlin
BEGIN:DAYLIGHT
DTSTART:20260329T030000
TZOFFSETFROM:+0100
TZOFFSETTO:+0200
TZNAME:CEST
END:DAYLIGHT
END:VTIMEZONE
END:VCALENDAR