BEGIN:VCALENDAR
VERSION:2.0
PRODID:-//wp-events-plugin.com//5.99912//EN
TZID:Europe/Berlin
X-WR-TIMEZONE:Europe/Berlin
BEGIN:VEVENT
UID:0-791@sickenhausen.albverein.eu
DTSTART;TZID=Europe/Berlin:20260428T141500
DTEND;TZID=Europe/Berlin:20260428T141500
DTSTAMP:20260407T180834Z
URL:https://sickenhausen.albverein.eu/events/einladung-zum-dienstagstreff-
 28/
SUMMARY:Einladung zum Dienstagstreff
DESCRIPTION:Hinter die Kulissen des Landesstudios vom SWR in Tübingen woll
 en wir bei unserem nächsten Treffen schauen. Die Führung durch den Neuba
 u\, der letzten Sommer eingeweiht wurde\, dauert ca. 1 ½ Stunden. \nIm An
 schluss ist auf der Heimfahrt eine Einkehr geplant. Wegen der Reservierung
  bitte ich um Anmeldung bis 24.4.2026\nAbfahrt ist um 14:15 Uhr am Feuerwe
 hrhaus Lange Morgen.\nIch lade herzlich ein\nKarin Scheu\nTel. 670941
END:VEVENT
BEGIN:VTIMEZONE
TZID:Europe/Berlin
X-LIC-LOCATION:Europe/Berlin
BEGIN:DAYLIGHT
DTSTART:20260329T030000
TZOFFSETFROM:+0100
TZOFFSETTO:+0200
TZNAME:CEST
END:DAYLIGHT
END:VTIMEZONE
END:VCALENDAR