BEGIN:VCALENDAR
VERSION:2.0
PRODID:-//wp-events-plugin.com//5.99912//EN
TZID:Europe/Berlin
X-WR-TIMEZONE:Europe/Berlin
BEGIN:VEVENT
UID:0-794@sickenhausen.albverein.eu
DTSTART;TZID=Europe/Berlin:20260517T140000
DTEND;TZID=Europe/Berlin:20260517T173000
DTSTAMP:20260420T163951Z
URL:https://sickenhausen.albverein.eu/events/abenteuerliche-wanderung-auf-
 schatzsuche-rund-um-sickenhausen/
SUMMARY:Abenteuerliche Wanderung – Auf Schatzsuche rund um Sickenhausen
DESCRIPTION:Habt ihr Lust auf frische Luft\, Bewegung und ein\nkleines Aben
 teuer? Dann kommt mit auf eine spannende Schatzsuche für Groß und Klein!
  \n17. Mai 2026\nStart 14:00 Uhr Ende ca. 17.30 Uhr\nTreffpunkt: Sportplat
 z Sickenhausen\nStrecke: ca. 5 km – kinderwagengeeignet\n\nWas euch erwa
 rtet:\nGemeinsam folgen wir Hinweisen und gehen auf Schatzsuche durch die 
 Natur.\nUnterwegs machen wir eine Pause zum Spielen.\n\nFür die Pause ger
 ne mitbringen:\nSandspielzeug • Fußbälle • Tischtennisschläger • 
 Picknickdecke\nVerpflegung:\nGetränke &amp\; Snacks bitte selbst mitbring
 en\n\nWichtig:\nWetterfeste Kleidung • Gummistiefel/wasserfeste Schuhe 
 • Wechselkleidung\nIch freue mich auf viele neue und bekannte Gesichter!
 \nKommt vorbei – der Schatz wartet auf uns.\n  \n\nBei Fragen gerne ku
 rz melden .\n\nLena Schall\nTel. 07121/61966\n\n&nbsp\;
END:VEVENT
BEGIN:VTIMEZONE
TZID:Europe/Berlin
X-LIC-LOCATION:Europe/Berlin
BEGIN:DAYLIGHT
DTSTART:20260329T030000
TZOFFSETFROM:+0100
TZOFFSETTO:+0200
TZNAME:CEST
END:DAYLIGHT
END:VTIMEZONE
END:VCALENDAR